BEGIN:VCALENDAR
VERSION:2.0
PRODID:-//Progress For All - ECPv6.15.20//NONSGML v1.0//EN
CALSCALE:GREGORIAN
METHOD:PUBLISH
X-WR-CALNAME:Progress For All
X-ORIGINAL-URL:https://progressforall.org
X-WR-CALDESC:Events for Progress For All
REFRESH-INTERVAL;VALUE=DURATION:PT1H
X-Robots-Tag:noindex
X-PUBLISHED-TTL:PT1H
BEGIN:VTIMEZONE
TZID:UTC
BEGIN:STANDARD
TZOFFSETFROM:+0000
TZOFFSETTO:+0000
TZNAME:UTC
DTSTART:20160101T000000
END:STANDARD
END:VTIMEZONE
BEGIN:VEVENT
DTSTART;TZID=UTC:20170322T100000
DTEND;TZID=UTC:20170322T160000
DTSTAMP:20260423T152152
CREATED:20170302T205048Z
LAST-MODIFIED:20170302T205048Z
UID:451-1490176800-1490198400@progressforall.org
SUMMARY:Reclaiming Florida's Future For All!
DESCRIPTION:  \nProtect Our Water! Ban Fracking! Support Renewable Energy! \nWe’ve made a lot of progress on these issues\, but we need YOU to help us push forward and educate our legislators this Spring! \nRegister here: https://goo.gl/forms/QBRZPduMJR8oSTqg2 \nWe will be calling on our legislators to: \nBan Fracking in Florida: This extreme extraction method poses risks to our environment and does not benefit the people of Florida. We don’t want to see what happened in Naples happen anywhere in Florida again! \n-Support Renewable Energy: Florida is the sunshine state\, and through the Constitutional Amendment process\, we’ve made great strides toward owning that name! Now we need the legislature to follow suit\, through legislative action\, including implementing Amendment 4. \n-Protect Florida’s Waters: From the Panhandle to the Keys\, Floridians demand clean water. Our springs\, rivers\, estuaries\, lakes\, bays and Everglades will continue to degrade\, and threaten our health\, quality of life\, and economy\, until decision-makers buy the land needed to restore and protect our watersheds. \nWe will provide transportation from several cities across the state and we will also provide training so you have the skills you need to effectively advocate! \nTraining will be offered the evening before (and on buses on the way to Tally)\, and a rally/ press conference will be held that morning! \nhttps://goo.gl/forms/QBRZPduMJR8oSTqg2\nand learn more information here: http://www.rethinkenergyflorida.org/reclaiming_florida_s_future
URL:https://progressforall.org/event/reclaiming-floridas-future-for-all/
LOCATION:Florida State Capitol\, 400 South Monroe Street\, Tallahassee\, FL\, 32301\, United States
END:VEVENT
END:VCALENDAR