BEGIN:VCALENDAR
VERSION:2.0
PRODID:-//Progress For All - ECPv6.15.20//NONSGML v1.0//EN
CALSCALE:GREGORIAN
METHOD:PUBLISH
X-ORIGINAL-URL:https://progressforall.org
X-WR-CALDESC:Events for Progress For All
REFRESH-INTERVAL;VALUE=DURATION:PT1H
X-Robots-Tag:noindex
X-PUBLISHED-TTL:PT1H
BEGIN:VTIMEZONE
TZID:UTC
BEGIN:STANDARD
TZOFFSETFROM:+0000
TZOFFSETTO:+0000
TZNAME:UTC
DTSTART:20160101T000000
END:STANDARD
END:VTIMEZONE
BEGIN:VEVENT
DTSTART;TZID=UTC:20170518T183000
DTEND;TZID=UTC:20170518T210000
DTSTAMP:20260423T082229
CREATED:20170510T202937Z
LAST-MODIFIED:20190828T031808Z
UID:824-1495132200-1495141200@progressforall.org
SUMMARY:Broward Progressive Caucus General Meeting
DESCRIPTION:“Join us at our next Broward County Progressive Caucus general meeting Thursday the 18th at the Broward County AFL-CIO suite 100. \nWe’re excited to announce that Sally Boynton Brown will be our guest speaker that evening. Sally was the Executive Director of the Idaho Democratic Party from 2012-2017. And ran for the Democratic National Committee chairmanship election in 2017. Now\, Sally is the new President of the Florida Democratic Party\, and is seeking to listen and integrate the vision of Progressives in Florida. \nWe look forward to seeing many new and familiar faces!”
URL:https://progressforall.org/event/broward-progressive-caucus-general-meeting/
LOCATION:Broward County AFL-CIO\, 1700 NW 66th Ave Suite 100\, Plantation\, FL\, 33313\, United States
END:VEVENT
END:VCALENDAR