BEGIN:VCALENDAR
VERSION:2.0
PRODID:-//Progress For All - ECPv6.15.20//NONSGML v1.0//EN
CALSCALE:GREGORIAN
METHOD:PUBLISH
X-WR-CALNAME:Progress For All
X-ORIGINAL-URL:https://progressforall.org
X-WR-CALDESC:Events for Progress For All
REFRESH-INTERVAL;VALUE=DURATION:PT1H
X-Robots-Tag:noindex
X-PUBLISHED-TTL:PT1H
BEGIN:VTIMEZONE
TZID:UTC
BEGIN:STANDARD
TZOFFSETFROM:+0000
TZOFFSETTO:+0000
TZNAME:UTC
DTSTART:20160101T000000
END:STANDARD
END:VTIMEZONE
BEGIN:VEVENT
DTSTART;TZID=UTC:20170429T130000
DTEND;TZID=UTC:20170429T160000
DTSTAMP:20260423T081850
CREATED:20170428T192147Z
LAST-MODIFIED:20190828T031717Z
UID:764-1493470800-1493481600@progressforall.org
SUMMARY:Miami People's Climate March
DESCRIPTION:Join the Miami Climate Alliance\, the Women’s March Florida Miami-Dade Chapter\, 350.org\, NewFM\, SEIU\, League of Women Voters – Miami\, Union of Concerned Scientists\, front line community groups\, and hundreds of thousands of others as we march together all around the country for strong and swift action to prevent the worst impacts of climate change. \nDate: Saturday\, April 29\nLocation: Jose Marti Park\, Miami 1:00 pm\nLet the Trump administration know that we won’t stand for the attack on our environment\, our communities\, and all the progress we’ve made thus far. \nOn this day that will mark the 100th day of Donald Trump’s presidency\, we ask you to join the People’s Climate Movement\, the Miami Climate Alliance\, the Women’s March and many many more in committing to strong\, positive action: to mass mobilize in our nation’s capital and in cities nationwide for science\, climate action\, and clean energy solutions.
URL:https://progressforall.org/event/miami-peoples-climate-march/
LOCATION:Jose Marti Park\, 351 SW 4th St\, Miami\, FL\, 33130\, United States
ATTACH;FMTTYPE=image/png:https://progressforall.org/wp-content/uploads/2017/04/miami-climate-march.png
END:VEVENT
BEGIN:VEVENT
DTSTART;TZID=UTC:20170429T140000
DTEND;TZID=UTC:20170429T180000
DTSTAMP:20260423T081850
CREATED:20170428T192903Z
LAST-MODIFIED:20190828T031709Z
UID:768-1493474400-1493488800@progressforall.org
SUMMARY:People's Climate March Broward County
DESCRIPTION:Women’s March Broward and People’s Climate Movement invite you to join us for a peaceful rally and march promoting awareness of climate change and its effects on the environment in South Florida. Many important topics will be addressed by a variety of groups with emphasis on our local message of how climate change impacts water in all communities. Bring your signs promoting your own special messages in the shape of a circle which will be representative of our circles of resistance! This is a family friendly event!!! \nThe sponsoring organizations recognize the impacts of climate change\, the importance of protecting the gains made in recent years and the need to move our nation towards a new\, clean energy economy. The sponsors understand the intersectionality of social change requires us to work together to promote a unified social change movement and stand in solidarity with our vibrant and diverse communities. \nHere is our amazing list of speakers: \nDr. Keren Prize Bolter\nTim Canova\nEmma Collum\nU.S. Congressman Ted Deutch\nRebecca Harvey\nLouis Merlin\nKelsey Reider\nDianna Umpierre\nRichard WhiteCloud \nFrequently Asked Questions: \nWhy do I need tickets? Is this a free event?\nThe event is free. We ask you to RSVP on Eventbrite to help us manage expected attendance. \nAre there ID or minimum age requirements to enter the event?\nNo\, this is a family friendly event and all ages are welcome! \nWhat are my transportation/parking options for getting to and from the event?\nWe encourage environmentally friendly alternatives such as carpooling\, public transportation\, lyft\, or riding your bike. \nHow can I contact the organizer with any questions?\nPost questions in comments section or email robertjfigueroa@gmail.com
URL:https://progressforall.org/event/peoples-climate-march-broward-county/
LOCATION:George English Park\, 1101 Bayview Drive\, Fort Lauderdale\, FL\, 33304\, United States
ATTACH;FMTTYPE=image/jpeg:https://progressforall.org/wp-content/uploads/2017/04/climatemarchbroward.jpg
END:VEVENT
END:VCALENDAR