BEGIN:VCALENDAR
VERSION:2.0
PRODID:-//Progress For All - ECPv6.15.20//NONSGML v1.0//EN
CALSCALE:GREGORIAN
METHOD:PUBLISH
X-WR-CALNAME:Progress For All
X-ORIGINAL-URL:https://progressforall.org
X-WR-CALDESC:Events for Progress For All
REFRESH-INTERVAL;VALUE=DURATION:PT1H
X-Robots-Tag:noindex
X-PUBLISHED-TTL:PT1H
BEGIN:VTIMEZONE
TZID:UTC
BEGIN:STANDARD
TZOFFSETFROM:+0000
TZOFFSETTO:+0000
TZNAME:UTC
DTSTART:20160101T000000
END:STANDARD
END:VTIMEZONE
BEGIN:VEVENT
DTSTART;TZID=UTC:20170603T100000
DTEND;TZID=UTC:20170603T140000
DTSTAMP:20260423T043003
CREATED:20170524T194740Z
LAST-MODIFIED:20190828T030744Z
UID:894-1496484000-1496498400@progressforall.org
SUMMARY:Miami Wear Orange: Gun Violence Awareness Day
DESCRIPTION:Join Moms Demand Action for Gun Sense in America and other community partners for Miami Wears Orange\, a family event to support a Miami free of gun violence. Music\, yoga\, art\, and more. \n  \nPlease\, RSVP: http://act.everytown.org/event/wear-orange-2017/6237/signup/?akid&zip
URL:https://progressforall.org/event/miami-wear-orange-gun-violence-awareness-day/
LOCATION:Collins Park\, 2100 Collins Ave\, Miami Beach\, FL\, 33139\, United States
ATTACH;FMTTYPE=image/jpeg:https://progressforall.org/wp-content/uploads/2017/05/miami-moms-demand-action.jpg
END:VEVENT
BEGIN:VEVENT
DTSTART;TZID=UTC:20170603T120000
DTEND;TZID=UTC:20170603T150000
DTSTAMP:20260423T043003
CREATED:20170524T200311Z
LAST-MODIFIED:20190828T030729Z
UID:898-1496491200-1496502000@progressforall.org
SUMMARY:Celebrate Water! – The Miami River Film
DESCRIPTION:Join History Miami Museum\, Florida Producer Robin Haines Merrill\, Miami-Dade County Commissioner Daniella Levine-Cava\, and Tim Canova for a special showing of “The Miami River”\, by Oscar-nominated filmmaker Katja Esson. This documentary is one film of a five-part series made for the ARTE Channel in Europe about American Rivers. The film features the history and current uses of the Miami River\, including appearances by Dr. Paul George\, Robert Carr\, members of the Seminole tribe and the Miccosukee tribe. The afternoon will start with traditional Seminole Pumpkin Frybread. Panel Discussion and Q & A with Miami-Dade County Government Commissioner Daniella Levine Cava and Tim Canova of Progress For All. Don’t miss this very special event!
URL:https://progressforall.org/event/celebrate-water-the-miami-river-film/
LOCATION:History Miami Museum\, 101 W Flagler St.\, Miami\, FL\, 33130\, United States
ATTACH;FMTTYPE=image/jpeg:https://progressforall.org/wp-content/uploads/2017/05/IMG_0374.jpg
END:VEVENT
BEGIN:VEVENT
DTSTART;TZID=UTC:20170603T130000
DTEND;TZID=UTC:20170603T150000
DTSTAMP:20260423T043003
CREATED:20170524T194128Z
LAST-MODIFIED:20190828T030707Z
UID:890-1496494800-1496502000@progressforall.org
SUMMARY:Fort Lauderdale Wear Orange Celebration: Gun Violence Awareness Day
DESCRIPTION:Wear Orange is an annual event to raise gun violence awareness. It honors the life of a Chicago schoolgirl killed by gunfire\, and we WearOrange because orange is the color that hunters wear to avoid being shot. Come to this event\, celebrate\, listen and learn. \nRSVP here: http://act.everytown.org/event/wear-orange-2017/6337/signup/?akid&zip
URL:https://progressforall.org/event/fort-lauderdale-wear-orange-celebration-gun-violence-awareness-day/
LOCATION:Esplanade Park\, 401 SW 2nd St \, FL \, Fort Lauderdale\, FL\, 33312\, United States
ATTACH;FMTTYPE=image/jpeg:https://progressforall.org/wp-content/uploads/2017/05/IMG_0372.jpg
END:VEVENT
END:VCALENDAR